Workbook

Sheet CD
A1: 18C1 | B1: 1 | C1: 1 Thương mại điện tử | D1: Mạng máy tính và Internet | E1: 75 | F1: 3 | G1: 75 | H1: T. Tuyên | N1: GV | O1: T. Đôn | P1: T. Quốc | Q1: T. Vọng | R1: T. Đạt | S1: T. Dũng | T1: T. Đoàn | U1: T. Trường | V1: T. Tuyên
A2: 18C1 | B2: 4 | C2: 2 Quản trị mạng máy tính, 1 Công nghệ kỹ thuật máy tính, 1 An ninh mạng | D2: Phần cứng máy tính | E2: 60 | F2: 12 | G2: 240 | H2: T. Dũng | I2: T. Đạt | J2: T. Dũng | K2: T. Đoàn | N2: Số lớp CĐ | O2: =COUNTIF($H$1:$N$26,O1) -> 7 | P2: =COUNTIF($H$1:$N$26,P1) -> 5 | Q2: =COUNTIF($H$1:$N$26,Q1) -> 5 | R2: =COUNTIF($H$1:$N$26,R1) -> 5 | S2: =COUNTIF($H$1:$N$26,S1) -> 5 | T2: =COUNTIF($H$1:$N$26,T1) -> 5 | U2: =COUNTIF($H$1:$N$26,U1) -> 5 | V2: =COUNTIF($H$1:$N$26,V1) -> 5
A3: 16CD | B3: 2 | C3: 2 TM | D3: Mạng Linux | E3: 45 | F3: 2 | G3: 90 | H3: T. Đoàn | I3: T. Đoàn | N3: Số lớp TC | O3: =TC!M2 -> 1 | P3: =TC!N2 -> 2 | Q3: =TC!O2 -> 2 | R3: =TC!P2 -> 2 | S3: =TC!Q2 -> 2 | T3: =TC!R2 -> 2 | U3: =TC!S2 -> 2 | V3: =TC!T2 -> 2
A4: 16CD | B4: 1 | C4: 1TW | D4: Mạng máy tính và quản trị mạng | E4: 60 | F4: 3 | G4: 60 | H4: T. Đoàn | N4: Tổng lớp | O4: =SUM(O2:O3) -> 8 | P4: =SUM(P2:P3) -> 7 | Q4: =SUM(Q2:Q3) -> 7 | R4: =SUM(R2:R3) -> 7 | S4: =SUM(S2:S3) -> 7 | T4: =SUM(T2:T3) -> 7 | U4: =SUM(U2:U3) -> 7 | V4: =SUM(V2:V3) -> 7
A5: 16CD | B5: 2 | C5: 2 TM | D5: Mạng nâng cao | E5: 60 | F5: 3 | G5: 120 | H5: T. Quốc | I5: T. Quốc
A6: 16CD | B6: 2 | C6: 2 TM | D6: Thiết bị mạng | E6: 45 | F6: 2 | G6: 90 | H6: T. Trường | I6: T. Trường
A7: 17C2 | B7: 1 | C7: 1 Quản trị mạng máy tính | D7: Công nghệ ảo hóa | E7: 75 | F7: 3 | G7: 75 | H7: T. Đôn
A8: 17C2 | B8: 1 | C8: 1 Quản trị mạng máy tính | D8: Đồ án 1 | E8: 45 | F8: 1 | G8: 45 | H8: T. Quốc
A9: 17C2 | B9: 1 | C9: 1 Quản trị mạng máy tính | D9: Quản trị mạng nâng cao trên Linux | E9: 75 | F9: 3 | G9: 75 | H9: T. Đôn
A10: 17C1 | B10: 1 | C10: 1 An ninh mạng | D10: An toàn mạng trên Cisco | E10: 60 | F10: 3 | G10: 60 | H10: T. Vọng
A11: 17C1 | B11: 1 | C11: 1 Quản trị mạng máy tính | D11: Bảo mật hệ thống thông tin | E11: 45 | F11: 2 | G11: 45 | H11: T. Đôn
A12: 17C1 | B12: 1 | C12: 1 An ninh mạng | D12: Bảo mật hệ thống thông tin | E12: 60 | F12: 3 | G12: 60 | H12: T. Đôn
A13: 17C1 | B13: 1 | C13: 1 Quản trị mạng máy tính | D13: Công nghệ Ảo hóa | E13: 60 | F13: 3 | G13: 60 | H13: T. Đôn
A14: 17C1 | B14: 2 | C14: 2 Công nghệ kỹ thuật máy tính | D14: Công nghệ mạng không dây | E14: 45 | F14: 4 | G14: 90 | H14: T. Tuyên | I14: T. Tuyên
A15: 17C1 | B15: 4 | C15: 1 Quản trị mạng máy tính, 2 Công nghệ kỹ thuật máy tính, 1 An ninh mạng | D15: Đồ án 1 | E15: 45 | F15: 8 | G15: 360 | H15: T. Đôn | I15: T. Quốc | J15: T. Vọng | K15: T. Trường
A16: 17C1 | B16: 2 | C16: 2 Công nghệ kỹ thuật máy tính | D16: Hệ thống số | E16: 60 | F16: 6 | G16: 120 | H16: T. Tuyên | I16: T. Tuyên
A17: 17C1 | B17: 1 | C17: 1 Tin học ứng dụng | D17: Internet và an toàn dữ liệu | E17: 45 | F17: 2 | G17: 45 | H17: T. Trường
A18: 17C1 | B18: 1 | C18: 1 An ninh mạng | D18: Kỹ thuật hack | E18: 60 | F18: 3 | G18: 60 | H18: T. Vọng
A19: 17C1 | B19: 1 | C19: 1 Quản trị mạng máy tính | D19: Kỹ thuật truyền thông và số liệu | E19: 45 | F19: 2 | G19: 45 | H19: T. Dũng
A20: 17C1 | B20: 2 | C20: 2 Công nghệ kỹ thuật máy tính | D20: Kỹ thuật truyền thông và số liệu | E20: 60 | F20: 6 | G20: 120 | H20: T. Đạt | I20: T. Đạt
A21: 17C1 | B21: 2 | C21: 1 Quản trị mạng máy tính, 1 An ninh mạng | D21: Mạng nâng cao | E21: 60 | F21: 6 | G21: 120 | H21: T. Quốc | I21: T. Đôn
A22: 17C1 | B22: 1 | C22: 1 Tin học ứng dụng | D22: Phần cứng và mạng máy tính | E22: 90 | F22: 4 | G22: 90 | H22: T. Đoàn
A23: 17C1 | B23: 2 | C23: 1 Quản trị mạng máy tính, 1 An ninh mạng | D23: Quản trị mạng trên Linux | E23: 60 | F23: 6 | G23: 120 | H23: T. Vọng | I23: T. Vọng
A24: 17C1 | B24: 2 | C24: 2 Công nghệ kỹ thuật máy tính | D24: Sửa chữa máy tính | E24: 60 | F24: 6 | G24: 120 | H24: T. Đạt | I24: T. Đạt
A25: 17C1 | B25: 2 | C25: 2 Công nghệ kỹ thuật máy tính | D25: Sửa chữa thiết bị ngoại vi | E25: 75 | F25: 8 | G25: 150 | H25: T. Dũng | I25: T. Dũng
A26: 17C1 | B26: 1 | C26: 1 Quản trị mạng máy tính | D26: Thiết bị mạng | E26: 60 | F26: 3 | G26: 60 | H26: T. Trường

Sheet TC
A1: 17T4 | B1: 3 | C1: 2 Quản trị mạng máy tính, 1 Công nghệ kỹ thuật phần cứng máy tính | D1: Mạng máy tính và quản trị mạng | E1: 60 | F1: 9 | G1: 180 | H1: T. Trường | I1: T. Trường | M1: T. Đôn | N1: T. Quốc | O1: T. Vọng | P1: T. Đạt | Q1: T. Dũng | R1: T. Đoàn | S1: T. Trường | T1: T. Tuyên
A2: 18TC3N | B2: 2 | C2: 1 Quản trị mạng máy tính, 1 Công nghệ kỹ thuật phần cứng máy tính | D2: Phần cứng máy tính | E2: 60 | F2: 6 | G2: 120 | H2: T. Dũng | I2: T. Dũng | M2: =COUNTIF($H$1:$K$10,M1) -> 1 | N2: =COUNTIF($H$1:$K$10,N1) -> 2 | O2: =COUNTIF($H$1:$K$10,O1) -> 2 | P2: =COUNTIF($H$1:$K$10,P1) -> 2 | Q2: =COUNTIF($H$1:$K$10,Q1) -> 2 | R2: =COUNTIF($H$1:$K$10,R1) -> 2 | S2: =COUNTIF($H$1:$K$10,S1) -> 2 | T2: =COUNTIF($H$1:$K$10,T1) -> 2
A3: 18TC3N | B3: 1 | C3: 1 An ninh mạng | D3: Phần cứng máy tính | E3: 60 | F3: 3 | G3: 60 | H3: T. Đạt
A4: 16TC | B4: 1 | C4: 1 Quản trị Mạng máy tính | D4: Hệ điều hành Windows và Linux | E4: 45 | F4: 2 | G4: 45 | H4: T. Tuyên
A5: 16TC | B5: 1 | C5: 1 Quản trị Mạng máy tính | D5: Mạng nâng cao | E5: 45 | F5: 2 | G5: 45 | H5: T. Đôn
A6: 16TC | B6: 1 | C6: 1 Quản trị Mạng máy tính | D6: Mạng viễn thông và truyền số liệu | E6: 45 | F6: 2 | G6: 45 | H6: T. Đạt
A7: 16TC | B7: 1 | C7: 1 Quản trị Mạng máy tính | D7: Thiết lập và bảo trì hệ thống mạng | E7: 75 | F7: 4 | G7: 75 | H7: T. Vọng
A8: 16TCN | B8: 2 | C8: 2 Quản trị Mạng máy tính | D8: Chuyên đề | E8: 75 | F8: 6 | H8: T. Quốc | I8: T. Quốc
A9: 16TCN | B9: 2 | C9: 2 Quản trị Mạng máy tính | D9: Quản trị mạng | E9: 75 | F9: 6 | H9: T. Đoàn | I9: T. Đoàn
A10: 16TCN | B10: 2 | C10: 2 Quản trị Mạng máy tính | D10: Thiết kế, xây dựng mạng LAN | E10: 90 | F10: 8 | H10: T. Vọng | I10: T. Tuyên

Sheet Sheet3
